BEGIN:VCALENDAR
VERSION:2.0
PRODID:-//NVTA//Event Calendar//EN
METHOD:PUBLISH
CALSCALE:GREGORIAN
BEGIN:VEVENT
UID:event-1249-1776946374@thenovaauthority.org
DTSTART:20260527T230000Z
DTEND:20260528T000000Z
DTSTAMP:20260423T121254Z
CREATED:20260423T121254Z
SUMMARY:Technical Advisory Committee Meeting
LOCATION:The meeting varies from the normal schedule and is one the 4th Wednesday of the month.&nbsp\;\n\n2600 Park Tower Dr\, Suite 601\n\nVienna\, VA 22180\n
STATUS:CONFIRMED
TRANSP:OPAQUE
SEQUENCE:0
END:VEVENT
END:VCALENDAR
